BEGIN:VCALENDAR
VERSION:2.0
PRODID:-//Nancy Lee Fishing Charters - ECPv6.15.20//NONSGML v1.0//EN
CALSCALE:GREGORIAN
METHOD:PUBLISH
X-WR-CALNAME:Nancy Lee Fishing Charters
X-ORIGINAL-URL:https://nancyleefishingcharters.com
X-WR-CALDESC:Events for Nancy Lee Fishing Charters
REFRESH-INTERVAL;VALUE=DURATION:PT1H
X-Robots-Tag:noindex
X-PUBLISHED-TTL:PT1H
BEGIN:VTIMEZONE
TZID:America/New_York
BEGIN:DAYLIGHT
TZOFFSETFROM:-0500
TZOFFSETTO:-0400
TZNAME:EDT
DTSTART:20240310T070000
END:DAYLIGHT
BEGIN:STANDARD
TZOFFSETFROM:-0400
TZOFFSETTO:-0500
TZNAME:EST
DTSTART:20241103T060000
END:STANDARD
BEGIN:DAYLIGHT
TZOFFSETFROM:-0500
TZOFFSETTO:-0400
TZNAME:EDT
DTSTART:20250309T070000
END:DAYLIGHT
BEGIN:STANDARD
TZOFFSETFROM:-0400
TZOFFSETTO:-0500
TZNAME:EST
DTSTART:20251102T060000
END:STANDARD
BEGIN:DAYLIGHT
TZOFFSETFROM:-0500
TZOFFSETTO:-0400
TZNAME:EDT
DTSTART:20260308T070000
END:DAYLIGHT
BEGIN:STANDARD
TZOFFSETFROM:-0400
TZOFFSETTO:-0500
TZNAME:EST
DTSTART:20261101T060000
END:STANDARD
END:VTIMEZONE
BEGIN:VEVENT
DTSTART;VALUE=DATE:20250727
DTEND;VALUE=DATE:20250728
DTSTAMP:20260423T174542
CREATED:20250422T164146Z
LAST-MODIFIED:20250422T200810Z
UID:443-1753574400-1753660799@nancyleefishingcharters.com
SUMMARY:Private Charter Event
DESCRIPTION:This date has been reserved for a Private Party event.\n 🎣 Make Your Next Event Unforgettable – Book with Nancy Lee Fishing Charters! 🛥️ \nLooking for the ultimate way to celebrate a birthday\, bachelor party\, family reunion\, or corporate outing? Cast off with Nancy Lee Fishing Charters and create memories that are as big as the fish you’ll catch! \n🌊 Whether you’re planning a group adventure\, team-building day\, or just want to gather your favorite people for a day on the water\, our private fishing charters are the perfect way to bond\, relax\, and reel in some serious fun. \n✅ What We Offer: \n\nPrivate charters for groups of all sizes\nExpert crew and fully equipped boat\nIncredible bottom fishing off the Crystal Coast\nHassle-free booking and personalized service\nFish cleaning included – dinner’s on deck!\n\n📍 Based in Swansboro\, NC – just minutes from beautiful Emerald Isle. \nDon’t wait—our calendar fills up fast during peak season!\n🎯 Reserve your event today and hook the experience of a lifetime. \n📞 Call 252-354-3474  \n📧 Email CaptTess@NancyLeeFishingCharters.com \n🌐 Book online at https://nancyleefishingcharters.com \nNancy Lee Fishing Charters – Where Every Trip is a Reel Good Time!
URL:https://nancyleefishingcharters.com/event/private-charter-event-9/
LOCATION:Private Charter\, 128 E Corbett Avenue\, Swansboro\, NC\, 28584\, United States
CATEGORIES:Private Group
ORGANIZER;CN="Nancy Lee Fishing Charters":MAILTO:capttess@nancyleefishingcharters.com
END:VEVENT
BEGIN:VEVENT
DTSTART;VALUE=DATE:20250722
DTEND;VALUE=DATE:20250723
DTSTAMP:20260423T174542
CREATED:20250422T163949Z
LAST-MODIFIED:20250422T164036Z
UID:440-1753142400-1753228799@nancyleefishingcharters.com
SUMMARY:Private Charter Event
DESCRIPTION:This date has been reserved for a Private Party event.\n 🎣 Make Your Next Event Unforgettable – Book with Nancy Lee Fishing Charters! 🛥️ \nLooking for the ultimate way to celebrate a birthday\, bachelor party\, family reunion\, or corporate outing? Cast off with Nancy Lee Fishing Charters and create memories that are as big as the fish you’ll catch! \n🌊 Whether you’re planning a group adventure\, team-building day\, or just want to gather your favorite people for a day on the water\, our private fishing charters are the perfect way to bond\, relax\, and reel in some serious fun. \n✅ What We Offer: \n\nPrivate charters for groups of all sizes\nExpert crew and fully equipped boat\nIncredible bottom fishing off the Crystal Coast\nHassle-free booking and personalized service\nFish cleaning included – dinner’s on deck!\n\n📍 Based in Swansboro\, NC – just minutes from beautiful Emerald Isle. \nDon’t wait—our calendar fills up fast during peak season!\n🎯 Reserve your event today and hook the experience of a lifetime. \n📞 Call 252-354-3474  \n📧 Email CaptTess@NancyLeeFishingCharters.com \n🌐 Book online at https://nancyleefishingcharters.com \nNancy Lee Fishing Charters – Where Every Trip is a Reel Good Time!
URL:https://nancyleefishingcharters.com/event/private-charter-event-8/
LOCATION:Private Charter\, 128 E Corbett Avenue\, Swansboro\, NC\, 28584\, United States
CATEGORIES:Private Group
ORGANIZER;CN="Nancy Lee Fishing Charters":MAILTO:capttess@nancyleefishingcharters.com
END:VEVENT
BEGIN:VEVENT
DTSTART;VALUE=DATE:20250628
DTEND;VALUE=DATE:20250629
DTSTAMP:20260423T174542
CREATED:20250422T163828Z
LAST-MODIFIED:20250422T163828Z
UID:437-1751068800-1751155199@nancyleefishingcharters.com
SUMMARY:Private Charter Event
DESCRIPTION:This date has been reserved for a Private Party event.\n 🎣 Make Your Next Event Unforgettable – Book with Nancy Lee Fishing Charters! 🛥️ \nLooking for the ultimate way to celebrate a birthday\, bachelor party\, family reunion\, or corporate outing? Cast off with Nancy Lee Fishing Charters and create memories that are as big as the fish you’ll catch! \n🌊 Whether you’re planning a group adventure\, team-building day\, or just want to gather your favorite people for a day on the water\, our private fishing charters are the perfect way to bond\, relax\, and reel in some serious fun. \n✅ What We Offer: \n\nPrivate charters for groups of all sizes\nExpert crew and fully equipped boat\nIncredible bottom fishing off the Crystal Coast\nHassle-free booking and personalized service\nFish cleaning included – dinner’s on deck!\n\n📍 Based in Swansboro\, NC – just minutes from beautiful Emerald Isle. \nDon’t wait—our calendar fills up fast during peak season!\n🎯 Reserve your event today and hook the experience of a lifetime. \n📞 Call 252-354-3474  \n📧 Email CaptTess@NancyLeeFishingCharters.com \n🌐 Book online at https://nancyleefishingcharters.com \nNancy Lee Fishing Charters – Where Every Trip is a Reel Good Time!
URL:https://nancyleefishingcharters.com/event/private-charter-event-7/
LOCATION:Private Charter\, 128 E Corbett Avenue\, Swansboro\, NC\, 28584\, United States
CATEGORIES:Private Group
ORGANIZER;CN="Nancy Lee Fishing Charters":MAILTO:capttess@nancyleefishingcharters.com
END:VEVENT
BEGIN:VEVENT
DTSTART;VALUE=DATE:20250614
DTEND;VALUE=DATE:20250615
DTSTAMP:20260423T174542
CREATED:20250422T163541Z
LAST-MODIFIED:20250422T163633Z
UID:431-1749859200-1749945599@nancyleefishingcharters.com
SUMMARY:Private Charter Event
DESCRIPTION:This date has been reserved for a Private Party event.\n 🎣 Make Your Next Event Unforgettable – Book with Nancy Lee Fishing Charters! 🛥️ \nLooking for the ultimate way to celebrate a birthday\, bachelor party\, family reunion\, or corporate outing? Cast off with Nancy Lee Fishing Charters and create memories that are as big as the fish you’ll catch! \n🌊 Whether you’re planning a group adventure\, team-building day\, or just want to gather your favorite people for a day on the water\, our private fishing charters are the perfect way to bond\, relax\, and reel in some serious fun. \n✅ What We Offer: \n\nPrivate charters for groups of all sizes\nExpert crew and fully equipped boat\nIncredible bottom fishing off the Crystal Coast\nHassle-free booking and personalized service\nFish cleaning included – dinner’s on deck!\n\n📍 Based in Swansboro\, NC – just minutes from beautiful Emerald Isle. \nDon’t wait—our calendar fills up fast during peak season!\n🎯 Reserve your event today and hook the experience of a lifetime. \n📞 Call 252-354-3474  \n📧 Email CaptTess@NancyLeeFishingCharters.com \n🌐 Book online at https://nancyleefishingcharters.com \nNancy Lee Fishing Charters – Where Every Trip is a Reel Good Time!
URL:https://nancyleefishingcharters.com/event/private-charter-event-4/
LOCATION:Private Charter\, 128 E Corbett Avenue\, Swansboro\, NC\, 28584\, United States
CATEGORIES:Private Group
ORGANIZER;CN="Nancy Lee Fishing Charters":MAILTO:capttess@nancyleefishingcharters.com
END:VEVENT
BEGIN:VEVENT
DTSTART;VALUE=DATE:20250602
DTEND;VALUE=DATE:20250603
DTSTAMP:20260423T174542
CREATED:20250422T163421Z
LAST-MODIFIED:20250422T163610Z
UID:428-1748822400-1748908799@nancyleefishingcharters.com
SUMMARY:Private Charter Event
DESCRIPTION:This date has been reserved for a Private Party event.\n 🎣 Make Your Next Event Unforgettable – Book with Nancy Lee Fishing Charters! 🛥️ \nLooking for the ultimate way to celebrate a birthday\, bachelor party\, family reunion\, or corporate outing? Cast off with Nancy Lee Fishing Charters and create memories that are as big as the fish you’ll catch! \n🌊 Whether you’re planning a group adventure\, team-building day\, or just want to gather your favorite people for a day on the water\, our private fishing charters are the perfect way to bond\, relax\, and reel in some serious fun. \n✅ What We Offer: \n\nPrivate charters for groups of all sizes\nExpert crew and fully equipped boat\nIncredible bottom fishing off the Crystal Coast\nHassle-free booking and personalized service\nFish cleaning included – dinner’s on deck!\n\n📍 Based in Swansboro\, NC – just minutes from beautiful Emerald Isle. \nDon’t wait—our calendar fills up fast during peak season!\n🎯 Reserve your event today and hook the experience of a lifetime. \n📞 Call 252-354-3474  \n📧 Email CaptTess@NancyLeeFishingCharters.com \n🌐 Book online at https://nancyleefishingcharters.com \nNancy Lee Fishing Charters – Where Every Trip is a Reel Good Time!
URL:https://nancyleefishingcharters.com/event/private-charter-event-3/
LOCATION:Private Charter\, 128 E Corbett Avenue\, Swansboro\, NC\, 28584\, United States
CATEGORIES:Private Group
ORGANIZER;CN="Nancy Lee Fishing Charters":MAILTO:capttess@nancyleefishingcharters.com
END:VEVENT
BEGIN:VEVENT
DTSTART;VALUE=DATE:20250601
DTEND;VALUE=DATE:20250602
DTSTAMP:20260423T174542
CREATED:20250422T162920Z
LAST-MODIFIED:20250531T211854Z
UID:422-1748736000-1748822399@nancyleefishingcharters.com
SUMMARY:Private Charter Event
DESCRIPTION:This date has been reserved for a Private Party event.\n 🎣 Make Your Next Event Unforgettable – Book with Nancy Lee Fishing Charters! 🛥️ \nLooking for the ultimate way to celebrate a birthday\, bachelor party\, family reunion\, or corporate outing? Cast off with Nancy Lee Fishing Charters and create memories that are as big as the fish you’ll catch! \n🌊 Whether you’re planning a group adventure\, team-building day\, or just want to gather your favorite people for a day on the water\, our private fishing charters are the perfect way to bond\, relax\, and reel in some serious fun. \n✅ What We Offer: \n\nPrivate charters for groups of all sizes\nExpert crew and fully equipped boat\nIncredible bottom fishing off the Crystal Coast\nHassle-free booking and personalized service\nFish cleaning included – dinner’s on deck!\n\n📍 Based in Swansboro\, NC – just minutes from beautiful Emerald Isle. \nDon’t wait—our calendar fills up fast during peak season!\n🎯 Reserve your event today and hook the experience of a lifetime. \n📞 Call 252-354-3474  \n📧 Email CaptTess@NancyLeeFishingCharters.com \n🌐 Book online at https://nancyleefishingcharters.com \nNancy Lee Fishing Charters – Where Every Trip is a Reel Good Time!
URL:https://nancyleefishingcharters.com/event/private-charter-event/
LOCATION:Private Charter\, 128 E Corbett Avenue\, Swansboro\, NC\, 28584\, United States
CATEGORIES:Private Group
ORGANIZER;CN="Nancy Lee Fishing Charters":MAILTO:capttess@nancyleefishingcharters.com
END:VEVENT
BEGIN:VEVENT
DTSTART;VALUE=DATE:20250531
DTEND;VALUE=DATE:20250601
DTSTAMP:20260423T174542
CREATED:20250422T163059Z
LAST-MODIFIED:20250422T163059Z
UID:424-1748649600-1748735999@nancyleefishingcharters.com
SUMMARY:Private Charter Event
DESCRIPTION:This date has been reserved for a Private Party event.\n 🎣 Make Your Next Event Unforgettable – Book with Nancy Lee Fishing Charters! 🛥️ \nLooking for the ultimate way to celebrate a birthday\, bachelor party\, family reunion\, or corporate outing? Cast off with Nancy Lee Fishing Charters and create memories that are as big as the fish you’ll catch! \n🌊 Whether you’re planning a group adventure\, team-building day\, or just want to gather your favorite people for a day on the water\, our private fishing charters are the perfect way to bond\, relax\, and reel in some serious fun. \n✅ What We Offer: \n\nPrivate charters for groups of all sizes\nExpert crew and fully equipped boat\nIncredible bottom fishing off the Crystal Coast\nHassle-free booking and personalized service\nFish cleaning included – dinner’s on deck!\n\n📍 Based in Swansboro\, NC – just minutes from beautiful Emerald Isle. \nDon’t wait—our calendar fills up fast during peak season!\n🎯 Reserve your event today and hook the experience of a lifetime. \n📞 Call 252-354-3474  \n📧 Email CaptTess@NancyLeeFishingCharters.com \n🌐 Book online at https://nancyleefishingcharters.com \nNancy Lee Fishing Charters – Where Every Trip is a Reel Good Time!
URL:https://nancyleefishingcharters.com/event/private-charter-event-2/
LOCATION:Private Charter\, 128 E Corbett Avenue\, Swansboro\, NC\, 28584\, United States
CATEGORIES:Private Group
ORGANIZER;CN="Nancy Lee Fishing Charters":MAILTO:capttess@nancyleefishingcharters.com
END:VEVENT
BEGIN:VEVENT
DTSTART;VALUE=DATE:20250517
DTEND;VALUE=DATE:20250518
DTSTAMP:20260423T174542
CREATED:20250422T160916Z
LAST-MODIFIED:20250422T163652Z
UID:414-1747440000-1747526399@nancyleefishingcharters.com
SUMMARY:Private Charter Event
DESCRIPTION:This day has been reserved for a Private Charter event.\n🎣 Make Your Next Event Unforgettable – Book with Nancy Lee Fishing Charters! 🛥️ \nLooking for the ultimate way to celebrate a birthday\, bachelor party\, family reunion\, or corporate outing? Cast off with Nancy Lee Fishing Charters and create memories that are as big as the fish you’ll catch! \n🌊 Whether you’re planning a group adventure\, team-building day\, or just want to gather your favorite people for a day on the water\, our private fishing charters are the perfect way to bond\, relax\, and reel in some serious fun. \n✅ What We Offer: \n\nPrivate charters for groups of all sizes\nExpert crew and fully equipped boat\nIncredible bottom fishing off the Crystal Coast\nHassle-free booking and personalized service\nFish cleaning included – dinner’s on deck!\n\n📍 Based in Swansboro\, NC – just minutes from beautiful Emerald Isle. \nDon’t wait—our calendar fills up fast during peak season!\n🎯 Reserve your event today and hook the experience of a lifetime. \n📞 Call 252-354-3474  \n📧 Email CaptTess@NancyLeeFishingCharters.com \n🌐 Book online at https://nancyleefishingcharters.com \nNancy Lee Fishing Charters – Where Every Trip is a Reel Good Time! \n 
URL:https://nancyleefishingcharters.com/event/private-charter-event-5/
LOCATION:Private Charter\, 128 E Corbett Avenue\, Swansboro\, NC\, 28584\, United States
CATEGORIES:Private Group
ORGANIZER;CN="Nancy Lee Fishing Charters":MAILTO:capttess@nancyleefishingcharters.com
END:VEVENT
BEGIN:VEVENT
DTSTART;VALUE=DATE:20250428
DTEND;VALUE=DATE:20250429
DTSTAMP:20260423T174542
CREATED:20250422T160805Z
LAST-MODIFIED:20250422T163708Z
UID:412-1745798400-1745884799@nancyleefishingcharters.com
SUMMARY:Private Charter Event
DESCRIPTION:This day has been reserved for a Private Charter event.\n🎣 Make Your Next Event Unforgettable – Book with Nancy Lee Fishing Charters! 🛥️ \nLooking for the ultimate way to celebrate a birthday\, bachelor party\, family reunion\, or corporate outing? Cast off with Nancy Lee Fishing Charters and create memories that are as big as the fish you’ll catch! \n🌊 Whether you’re planning a group adventure\, team-building day\, or just want to gather your favorite people for a day on the water\, our private fishing charters are the perfect way to bond\, relax\, and reel in some serious fun. \n✅ What We Offer: \n\nPrivate charters for groups of all sizes\nExpert crew and fully equipped boat\nIncredible bottom fishing off the Crystal Coast\nHassle-free booking and personalized service\nFish cleaning included – dinner’s on deck!\n\n📍 Based in Swansboro\, NC – just minutes from beautiful Emerald Isle. \nDon’t wait—our calendar fills up fast during peak season!\n🎯 Reserve your event today and hook the experience of a lifetime. \n📞 Call 252-354-3474  \n📧 Email CaptTess@NancyLeeFishingCharters.com \n🌐 Book online at https://nancyleefishingcharters.com \nNancy Lee Fishing Charters – Where Every Trip is a Reel Good Time!
URL:https://nancyleefishingcharters.com/event/private-charter-event-6/
LOCATION:Private Charter\, 128 E Corbett Avenue\, Swansboro\, NC\, 28584\, United States
CATEGORIES:Private Group
ORGANIZER;CN="Nancy Lee Fishing Charters":MAILTO:capttess@nancyleefishingcharters.com
END:VEVENT
END:VCALENDAR