BEGIN:VCALENDAR
VERSION:2.0
PRODID:-//Nancy Lee Fishing Charters - ECPv6.15.20//NONSGML v1.0//EN
CALSCALE:GREGORIAN
METHOD:PUBLISH
X-ORIGINAL-URL:https://nancyleefishingcharters.com
X-WR-CALDESC:Events for Nancy Lee Fishing Charters
REFRESH-INTERVAL;VALUE=DURATION:PT1H
X-Robots-Tag:noindex
X-PUBLISHED-TTL:PT1H
BEGIN:VTIMEZONE
TZID:America/New_York
BEGIN:DAYLIGHT
TZOFFSETFROM:-0500
TZOFFSETTO:-0400
TZNAME:EDT
DTSTART:20250309T070000
END:DAYLIGHT
BEGIN:STANDARD
TZOFFSETFROM:-0400
TZOFFSETTO:-0500
TZNAME:EST
DTSTART:20251102T060000
END:STANDARD
BEGIN:DAYLIGHT
TZOFFSETFROM:-0500
TZOFFSETTO:-0400
TZNAME:EDT
DTSTART:20260308T070000
END:DAYLIGHT
BEGIN:STANDARD
TZOFFSETFROM:-0400
TZOFFSETTO:-0500
TZNAME:EST
DTSTART:20261101T060000
END:STANDARD
BEGIN:DAYLIGHT
TZOFFSETFROM:-0500
TZOFFSETTO:-0400
TZNAME:EDT
DTSTART:20270314T070000
END:DAYLIGHT
BEGIN:STANDARD
TZOFFSETFROM:-0400
TZOFFSETTO:-0500
TZNAME:EST
DTSTART:20271107T060000
END:STANDARD
END:VTIMEZONE
BEGIN:VEVENT
DTSTART;TZID=America/New_York:20260630T070000
DTEND;TZID=America/New_York:20260630T120000
DTSTAMP:20260423T190057
CREATED:20260313T200310Z
LAST-MODIFIED:20260313T200310Z
UID:807-1782802800-1782820800@nancyleefishingcharters.com
SUMMARY:Private Charter Event
DESCRIPTION:This date has been reserved for a Private Party event.\n 🎣 Make Your Next Event Unforgettable – Book with Nancy Lee Fishing Charters! 🛥️ \nLooking for the ultimate way to celebrate a birthday\, bachelor party\, family reunion\, or corporate outing? Cast off with Nancy Lee Fishing Charters and create memories that are as big as the fish you’ll catch! \n🌊 Whether you’re planning a group adventure\, team-building day\, or just want to gather your favorite people for a day on the water\, our private fishing charters are the perfect way to bond\, relax\, and reel in some serious fun. \n✅ What We Offer: \n\nPrivate charters for groups of all sizes\nExpert crew and fully equipped boat\nIncredible bottom fishing off the Crystal Coast\nHassle-free booking and personalized service\nFish cleaning included – dinner’s on deck!\n\n📍 Based in Swansboro\, NC – just minutes from beautiful Emerald Isle. \nDon’t wait—our calendar fills up fast during peak season!\n🎯 Reserve your event today and hook the experience of a lifetime. \n📞 Call 252-354-3474  \n📧 Email CaptTess@NancyLeeFishingCharters.com \n🌐 Book online at https://nancyleefishingcharters.com \nNancy Lee Fishing Charters – Where Every Trip is a Reel Good Time!
URL:https://nancyleefishingcharters.com/event/private-charter-event-29/
END:VEVENT
BEGIN:VEVENT
DTSTART;TZID=America/New_York:20260701T070000
DTEND;TZID=America/New_York:20260701T120000
DTSTAMP:20260423T190057
CREATED:20260313T200411Z
LAST-MODIFIED:20260313T200411Z
UID:809-1782889200-1782907200@nancyleefishingcharters.com
SUMMARY:Private Charter Event
DESCRIPTION:This date has been reserved for a Private Party event.\n 🎣 Make Your Next Event Unforgettable – Book with Nancy Lee Fishing Charters! 🛥️ \nLooking for the ultimate way to celebrate a birthday\, bachelor party\, family reunion\, or corporate outing? Cast off with Nancy Lee Fishing Charters and create memories that are as big as the fish you’ll catch! \n🌊 Whether you’re planning a group adventure\, team-building day\, or just want to gather your favorite people for a day on the water\, our private fishing charters are the perfect way to bond\, relax\, and reel in some serious fun. \n✅ What We Offer: \n\nPrivate charters for groups of all sizes\nExpert crew and fully equipped boat\nIncredible bottom fishing off the Crystal Coast\nHassle-free booking and personalized service\nFish cleaning included – dinner’s on deck!\n\n📍 Based in Swansboro\, NC – just minutes from beautiful Emerald Isle. \nDon’t wait—our calendar fills up fast during peak season!\n🎯 Reserve your event today and hook the experience of a lifetime. \n📞 Call 252-354-3474  \n📧 Email CaptTess@NancyLeeFishingCharters.com \n🌐 Book online at https://nancyleefishingcharters.com \nNancy Lee Fishing Charters – Where Every Trip is a Reel Good Time!
URL:https://nancyleefishingcharters.com/event/private-charter-event-30/
END:VEVENT
BEGIN:VEVENT
DTSTART;TZID=America/New_York:20260702T070000
DTEND;TZID=America/New_York:20260702T120000
DTSTAMP:20260423T190057
CREATED:20260414T015218Z
LAST-MODIFIED:20260414T015218Z
UID:840-1782975600-1782993600@nancyleefishingcharters.com
SUMMARY:Private Charter Event
DESCRIPTION:This date has been reserved for a Private Party event.\n 🎣 Make Your Next Event Unforgettable – Book with Nancy Lee Fishing Charters! 🛥️ \nLooking for the ultimate way to celebrate a birthday\, bachelor party\, family reunion\, or corporate outing? Cast off with Nancy Lee Fishing Charters and create memories that are as big as the fish you’ll catch! \n🌊 Whether you’re planning a group adventure\, team-building day\, or just want to gather your favorite people for a day on the water\, our private fishing charters are the perfect way to bond\, relax\, and reel in some serious fun. \n✅ What We Offer: \n\nPrivate charters for groups of all sizes\nExpert crew and fully equipped boat\nIncredible bottom fishing off the Crystal Coast\nHassle-free booking and personalized service\nFish cleaning included – dinner’s on deck!\n\n📍 Based in Swansboro\, NC – just minutes from beautiful Emerald Isle. \nDon’t wait—our calendar fills up fast during peak season!\n🎯 Reserve your event today and hook the experience of a lifetime. \n📞 Call 252-354-3474  \n📧 Email CaptTess@NancyLeeFishingCharters.com \n🌐 Book online at https://nancyleefishingcharters.com \nNancy Lee Fishing Charters – Where Every Trip is a Reel Good Time!
URL:https://nancyleefishingcharters.com/event/private-charter-event-40/
END:VEVENT
BEGIN:VEVENT
DTSTART;TZID=America/New_York:20260707T070000
DTEND;TZID=America/New_York:20260707T120000
DTSTAMP:20260423T190057
CREATED:20260313T200504Z
LAST-MODIFIED:20260313T200504Z
UID:812-1783407600-1783425600@nancyleefishingcharters.com
SUMMARY:Private Charter Event
DESCRIPTION:This date has been reserved for a Private Party event.\n 🎣 Make Your Next Event Unforgettable – Book with Nancy Lee Fishing Charters! 🛥️ \nLooking for the ultimate way to celebrate a birthday\, bachelor party\, family reunion\, or corporate outing? Cast off with Nancy Lee Fishing Charters and create memories that are as big as the fish you’ll catch! \n🌊 Whether you’re planning a group adventure\, team-building day\, or just want to gather your favorite people for a day on the water\, our private fishing charters are the perfect way to bond\, relax\, and reel in some serious fun. \n✅ What We Offer: \n\nPrivate charters for groups of all sizes\nExpert crew and fully equipped boat\nIncredible bottom fishing off the Crystal Coast\nHassle-free booking and personalized service\nFish cleaning included – dinner’s on deck!\n\n📍 Based in Swansboro\, NC – just minutes from beautiful Emerald Isle. \nDon’t wait—our calendar fills up fast during peak season!\n🎯 Reserve your event today and hook the experience of a lifetime. \n📞 Call 252-354-3474  \n📧 Email CaptTess@NancyLeeFishingCharters.com \n🌐 Book online at https://nancyleefishingcharters.com \nNancy Lee Fishing Charters – Where Every Trip is a Reel Good Time!
URL:https://nancyleefishingcharters.com/event/private-charter-event-31/
END:VEVENT
BEGIN:VEVENT
DTSTART;TZID=America/New_York:20260711T070000
DTEND;TZID=America/New_York:20260711T120000
DTSTAMP:20260423T190057
CREATED:20260414T015258Z
LAST-MODIFIED:20260414T015258Z
UID:843-1783753200-1783771200@nancyleefishingcharters.com
SUMMARY:Private Charter Event
DESCRIPTION:This date has been reserved for a Private Party event.\n 🎣 Make Your Next Event Unforgettable – Book with Nancy Lee Fishing Charters! 🛥️ \nLooking for the ultimate way to celebrate a birthday\, bachelor party\, family reunion\, or corporate outing? Cast off with Nancy Lee Fishing Charters and create memories that are as big as the fish you’ll catch! \n🌊 Whether you’re planning a group adventure\, team-building day\, or just want to gather your favorite people for a day on the water\, our private fishing charters are the perfect way to bond\, relax\, and reel in some serious fun. \n✅ What We Offer: \n\nPrivate charters for groups of all sizes\nExpert crew and fully equipped boat\nIncredible bottom fishing off the Crystal Coast\nHassle-free booking and personalized service\nFish cleaning included – dinner’s on deck!\n\n📍 Based in Swansboro\, NC – just minutes from beautiful Emerald Isle. \nDon’t wait—our calendar fills up fast during peak season!\n🎯 Reserve your event today and hook the experience of a lifetime. \n📞 Call 252-354-3474  \n📧 Email CaptTess@NancyLeeFishingCharters.com \n🌐 Book online at https://nancyleefishingcharters.com \nNancy Lee Fishing Charters – Where Every Trip is a Reel Good Time!
URL:https://nancyleefishingcharters.com/event/private-charter-event-41/
END:VEVENT
BEGIN:VEVENT
DTSTART;TZID=America/New_York:20260718T070000
DTEND;TZID=America/New_York:20260718T120000
DTSTAMP:20260423T190057
CREATED:20260414T020132Z
LAST-MODIFIED:20260414T020132Z
UID:861-1784358000-1784376000@nancyleefishingcharters.com
SUMMARY:Head Boat
DESCRIPTION:Call today and make your reservations to join us as we set out to do some fishing. \nThe Nancy Lee can accommodate up to 20 people comfortably. \nEvery Season: \n\nBlack Sea Bass – 13” size limit 7 bag limit \nVarious Porgie and Grunts – No limits \nBank and Sand Bass – No limits \n\nSpring (April–May) \n\nSpanish Mackerel – 12” size limit 15 bag limit\nBluefish – No size limit 3 bag limit \nFlounder – Currently there is no season for keeping recreational flounder \nBonito – Little Tunny and Atlantic – No limit\nKing Mackerel – 24” size limit 3 bag limit \n\nSeason opens May 1st and closes December 31st \n\nCobia – 36” size limit 4 per vessel (for hire) \n\nSeason opens May 1st and Closes March 31st \n\nGreater Amberjack – 28” size limit 1 bag limit \n\nSummer (June–August) \n\nGrouper & Snapper\nGag & Black Grouper\n\nSeason Opens May 1 and Closes June 15 \n\nRed Snapper – 24” size limit 2 fish per vsl per trip (for hire) \n\nSeason Opens July 12th and closes July 13th (only open 1 day this year) \n\nTriggerfish – 12” size limit 10 bag limit \nSharks – various species active in summer months.\n\nFall (September–November) \n\nFalse Albacore (Little Tunny) – explosive nearshore action in October.\nKing Mackerel – fall run is big through November.\nBlack Sea Bass – 13” size limit 7 bag limit
URL:https://nancyleefishingcharters.com/event/head-boat-4/
END:VEVENT
BEGIN:VEVENT
DTSTART;TZID=America/New_York:20260721T070000
DTEND;TZID=America/New_York:20260721T120000
DTSTAMP:20260423T190057
CREATED:20260414T015337Z
LAST-MODIFIED:20260414T015337Z
UID:846-1784617200-1784635200@nancyleefishingcharters.com
SUMMARY:Private Charter Event
DESCRIPTION:This date has been reserved for a Private Party event.\n 🎣 Make Your Next Event Unforgettable – Book with Nancy Lee Fishing Charters! 🛥️ \nLooking for the ultimate way to celebrate a birthday\, bachelor party\, family reunion\, or corporate outing? Cast off with Nancy Lee Fishing Charters and create memories that are as big as the fish you’ll catch! \n🌊 Whether you’re planning a group adventure\, team-building day\, or just want to gather your favorite people for a day on the water\, our private fishing charters are the perfect way to bond\, relax\, and reel in some serious fun. \n✅ What We Offer: \n\nPrivate charters for groups of all sizes\nExpert crew and fully equipped boat\nIncredible bottom fishing off the Crystal Coast\nHassle-free booking and personalized service\nFish cleaning included – dinner’s on deck!\n\n📍 Based in Swansboro\, NC – just minutes from beautiful Emerald Isle. \nDon’t wait—our calendar fills up fast during peak season!\n🎯 Reserve your event today and hook the experience of a lifetime. \n📞 Call 252-354-3474  \n📧 Email CaptTess@NancyLeeFishingCharters.com \n🌐 Book online at https://nancyleefishingcharters.com \nNancy Lee Fishing Charters – Where Every Trip is a Reel Good Time!
URL:https://nancyleefishingcharters.com/event/private-charter-event-42/
END:VEVENT
BEGIN:VEVENT
DTSTART;TZID=America/New_York:20260722T070000
DTEND;TZID=America/New_York:20260722T120000
DTSTAMP:20260423T190057
CREATED:20260414T015420Z
LAST-MODIFIED:20260414T015420Z
UID:849-1784703600-1784721600@nancyleefishingcharters.com
SUMMARY:Private Charter Event
DESCRIPTION:This date has been reserved for a Private Party event.\n 🎣 Make Your Next Event Unforgettable – Book with Nancy Lee Fishing Charters! 🛥️ \nLooking for the ultimate way to celebrate a birthday\, bachelor party\, family reunion\, or corporate outing? Cast off with Nancy Lee Fishing Charters and create memories that are as big as the fish you’ll catch! \n🌊 Whether you’re planning a group adventure\, team-building day\, or just want to gather your favorite people for a day on the water\, our private fishing charters are the perfect way to bond\, relax\, and reel in some serious fun. \n✅ What We Offer: \n\nPrivate charters for groups of all sizes\nExpert crew and fully equipped boat\nIncredible bottom fishing off the Crystal Coast\nHassle-free booking and personalized service\nFish cleaning included – dinner’s on deck!\n\n📍 Based in Swansboro\, NC – just minutes from beautiful Emerald Isle. \nDon’t wait—our calendar fills up fast during peak season!\n🎯 Reserve your event today and hook the experience of a lifetime. \n📞 Call 252-354-3474  \n📧 Email CaptTess@NancyLeeFishingCharters.com \n🌐 Book online at https://nancyleefishingcharters.com \nNancy Lee Fishing Charters – Where Every Trip is a Reel Good Time!
URL:https://nancyleefishingcharters.com/event/private-charter-event-43/
END:VEVENT
BEGIN:VEVENT
DTSTART;TZID=America/New_York:20260804T070000
DTEND;TZID=America/New_York:20260804T120000
DTSTAMP:20260423T190057
CREATED:20260313T200601Z
LAST-MODIFIED:20260313T200601Z
UID:814-1785826800-1785844800@nancyleefishingcharters.com
SUMMARY:Private Charter Event
DESCRIPTION:This date has been reserved for a Private Party event.\n 🎣 Make Your Next Event Unforgettable – Book with Nancy Lee Fishing Charters! 🛥️ \nLooking for the ultimate way to celebrate a birthday\, bachelor party\, family reunion\, or corporate outing? Cast off with Nancy Lee Fishing Charters and create memories that are as big as the fish you’ll catch! \n🌊 Whether you’re planning a group adventure\, team-building day\, or just want to gather your favorite people for a day on the water\, our private fishing charters are the perfect way to bond\, relax\, and reel in some serious fun. \n✅ What We Offer: \n\nPrivate charters for groups of all sizes\nExpert crew and fully equipped boat\nIncredible bottom fishing off the Crystal Coast\nHassle-free booking and personalized service\nFish cleaning included – dinner’s on deck!\n\n📍 Based in Swansboro\, NC – just minutes from beautiful Emerald Isle. \nDon’t wait—our calendar fills up fast during peak season!\n🎯 Reserve your event today and hook the experience of a lifetime. \n📞 Call 252-354-3474  \n📧 Email CaptTess@NancyLeeFishingCharters.com \n🌐 Book online at https://nancyleefishingcharters.com \nNancy Lee Fishing Charters – Where Every Trip is a Reel Good Time!
URL:https://nancyleefishingcharters.com/event/private-charter-event-32/
END:VEVENT
BEGIN:VEVENT
DTSTART;TZID=America/New_York:20260805T070000
DTEND;TZID=America/New_York:20260805T120000
DTSTAMP:20260423T190057
CREATED:20260313T200734Z
LAST-MODIFIED:20260313T200734Z
UID:818-1785913200-1785931200@nancyleefishingcharters.com
SUMMARY:Private Charter Event
DESCRIPTION:This date has been reserved for a Private Party event.\n 🎣 Make Your Next Event Unforgettable – Book with Nancy Lee Fishing Charters! 🛥️ \nLooking for the ultimate way to celebrate a birthday\, bachelor party\, family reunion\, or corporate outing? Cast off with Nancy Lee Fishing Charters and create memories that are as big as the fish you’ll catch! \n🌊 Whether you’re planning a group adventure\, team-building day\, or just want to gather your favorite people for a day on the water\, our private fishing charters are the perfect way to bond\, relax\, and reel in some serious fun. \n✅ What We Offer: \n\nPrivate charters for groups of all sizes\nExpert crew and fully equipped boat\nIncredible bottom fishing off the Crystal Coast\nHassle-free booking and personalized service\nFish cleaning included – dinner’s on deck!\n\n📍 Based in Swansboro\, NC – just minutes from beautiful Emerald Isle. \nDon’t wait—our calendar fills up fast during peak season!\n🎯 Reserve your event today and hook the experience of a lifetime. \n📞 Call 252-354-3474  \n📧 Email CaptTess@NancyLeeFishingCharters.com \n🌐 Book online at https://nancyleefishingcharters.com \nNancy Lee Fishing Charters – Where Every Trip is a Reel Good Time!
URL:https://nancyleefishingcharters.com/event/private-charter-event-34/
END:VEVENT
BEGIN:VEVENT
DTSTART;TZID=America/New_York:20260808T070000
DTEND;TZID=America/New_York:20260808T120000
DTSTAMP:20260423T190057
CREATED:20260313T200647Z
LAST-MODIFIED:20260414T014851Z
UID:816-1786172400-1786190400@nancyleefishingcharters.com
SUMMARY:Private Charter Event
DESCRIPTION:This date has been reserved for a Private Party event.\n 🎣 Make Your Next Event Unforgettable – Book with Nancy Lee Fishing Charters! 🛥️ \nLooking for the ultimate way to celebrate a birthday\, bachelor party\, family reunion\, or corporate outing? Cast off with Nancy Lee Fishing Charters and create memories that are as big as the fish you’ll catch! \n🌊 Whether you’re planning a group adventure\, team-building day\, or just want to gather your favorite people for a day on the water\, our private fishing charters are the perfect way to bond\, relax\, and reel in some serious fun. \n✅ What We Offer: \n\nPrivate charters for groups of all sizes\nExpert crew and fully equipped boat\nIncredible bottom fishing off the Crystal Coast\nHassle-free booking and personalized service\nFish cleaning included – dinner’s on deck!\n\n📍 Based in Swansboro\, NC – just minutes from beautiful Emerald Isle. \nDon’t wait—our calendar fills up fast during peak season!\n🎯 Reserve your event today and hook the experience of a lifetime. \n📞 Call 252-354-3474  \n📧 Email CaptTess@NancyLeeFishingCharters.com \n🌐 Book online at https://nancyleefishingcharters.com \nNancy Lee Fishing Charters – Where Every Trip is a Reel Good Time!
URL:https://nancyleefishingcharters.com/event/private-charter-event-33/
END:VEVENT
END:VCALENDAR