BEGIN:VCALENDAR
VERSION:2.0
PRODID:-//Nancy Lee Fishing Charters - ECPv6.15.20//NONSGML v1.0//EN
CALSCALE:GREGORIAN
METHOD:PUBLISH
X-ORIGINAL-URL:https://nancyleefishingcharters.com
X-WR-CALDESC:Events for Nancy Lee Fishing Charters
REFRESH-INTERVAL;VALUE=DURATION:PT1H
X-Robots-Tag:noindex
X-PUBLISHED-TTL:PT1H
BEGIN:VTIMEZONE
TZID:America/New_York
BEGIN:DAYLIGHT
TZOFFSETFROM:-0500
TZOFFSETTO:-0400
TZNAME:EDT
DTSTART:20250309T070000
END:DAYLIGHT
BEGIN:STANDARD
TZOFFSETFROM:-0400
TZOFFSETTO:-0500
TZNAME:EST
DTSTART:20251102T060000
END:STANDARD
BEGIN:DAYLIGHT
TZOFFSETFROM:-0500
TZOFFSETTO:-0400
TZNAME:EDT
DTSTART:20260308T070000
END:DAYLIGHT
BEGIN:STANDARD
TZOFFSETFROM:-0400
TZOFFSETTO:-0500
TZNAME:EST
DTSTART:20261101T060000
END:STANDARD
BEGIN:DAYLIGHT
TZOFFSETFROM:-0500
TZOFFSETTO:-0400
TZNAME:EDT
DTSTART:20270314T070000
END:DAYLIGHT
BEGIN:STANDARD
TZOFFSETFROM:-0400
TZOFFSETTO:-0500
TZNAME:EST
DTSTART:20271107T060000
END:STANDARD
END:VTIMEZONE
BEGIN:VEVENT
DTSTART;TZID=America/New_York:20260808T070000
DTEND;TZID=America/New_York:20260808T120000
DTSTAMP:20260423T175901
CREATED:20260313T200647Z
LAST-MODIFIED:20260414T014851Z
UID:816-1786172400-1786190400@nancyleefishingcharters.com
SUMMARY:Private Charter Event
DESCRIPTION:This date has been reserved for a Private Party event.\n 🎣 Make Your Next Event Unforgettable – Book with Nancy Lee Fishing Charters! 🛥️ \nLooking for the ultimate way to celebrate a birthday\, bachelor party\, family reunion\, or corporate outing? Cast off with Nancy Lee Fishing Charters and create memories that are as big as the fish you’ll catch! \n🌊 Whether you’re planning a group adventure\, team-building day\, or just want to gather your favorite people for a day on the water\, our private fishing charters are the perfect way to bond\, relax\, and reel in some serious fun. \n✅ What We Offer: \n\nPrivate charters for groups of all sizes\nExpert crew and fully equipped boat\nIncredible bottom fishing off the Crystal Coast\nHassle-free booking and personalized service\nFish cleaning included – dinner’s on deck!\n\n📍 Based in Swansboro\, NC – just minutes from beautiful Emerald Isle. \nDon’t wait—our calendar fills up fast during peak season!\n🎯 Reserve your event today and hook the experience of a lifetime. \n📞 Call 252-354-3474  \n📧 Email CaptTess@NancyLeeFishingCharters.com \n🌐 Book online at https://nancyleefishingcharters.com \nNancy Lee Fishing Charters – Where Every Trip is a Reel Good Time!
URL:https://nancyleefishingcharters.com/event/private-charter-event-33/
END:VEVENT
END:VCALENDAR