BEGIN:VCALENDAR
VERSION:2.0
PRODID:-//Nancy Lee Fishing Charters - ECPv6.15.20//NONSGML v1.0//EN
CALSCALE:GREGORIAN
METHOD:PUBLISH
X-ORIGINAL-URL:https://nancyleefishingcharters.com
X-WR-CALDESC:Events for Nancy Lee Fishing Charters
REFRESH-INTERVAL;VALUE=DURATION:PT1H
X-Robots-Tag:noindex
X-PUBLISHED-TTL:PT1H
BEGIN:VTIMEZONE
TZID:America/New_York
BEGIN:DAYLIGHT
TZOFFSETFROM:-0500
TZOFFSETTO:-0400
TZNAME:EDT
DTSTART:20250309T070000
END:DAYLIGHT
BEGIN:STANDARD
TZOFFSETFROM:-0400
TZOFFSETTO:-0500
TZNAME:EST
DTSTART:20251102T060000
END:STANDARD
BEGIN:DAYLIGHT
TZOFFSETFROM:-0500
TZOFFSETTO:-0400
TZNAME:EDT
DTSTART:20260308T070000
END:DAYLIGHT
BEGIN:STANDARD
TZOFFSETFROM:-0400
TZOFFSETTO:-0500
TZNAME:EST
DTSTART:20261101T060000
END:STANDARD
BEGIN:DAYLIGHT
TZOFFSETFROM:-0500
TZOFFSETTO:-0400
TZNAME:EDT
DTSTART:20270314T070000
END:DAYLIGHT
BEGIN:STANDARD
TZOFFSETFROM:-0400
TZOFFSETTO:-0500
TZNAME:EST
DTSTART:20271107T060000
END:STANDARD
END:VTIMEZONE
BEGIN:VEVENT
DTSTART;TZID=America/New_York:20260501T070000
DTEND;TZID=America/New_York:20260501T120000
DTSTAMP:20260423T120631
CREATED:20260313T195352Z
LAST-MODIFIED:20260313T195352Z
UID:799-1777618800-1777636800@nancyleefishingcharters.com
SUMMARY:Private Charter Event
DESCRIPTION:This date has been reserved for a Private Party event.\n 🎣 Make Your Next Event Unforgettable – Book with Nancy Lee Fishing Charters! 🛥️ \nLooking for the ultimate way to celebrate a birthday\, bachelor party\, family reunion\, or corporate outing? Cast off with Nancy Lee Fishing Charters and create memories that are as big as the fish you’ll catch! \n🌊 Whether you’re planning a group adventure\, team-building day\, or just want to gather your favorite people for a day on the water\, our private fishing charters are the perfect way to bond\, relax\, and reel in some serious fun. \n✅ What We Offer: \n\nPrivate charters for groups of all sizes\nExpert crew and fully equipped boat\nIncredible bottom fishing off the Crystal Coast\nHassle-free booking and personalized service\nFish cleaning included – dinner’s on deck!\n\n📍 Based in Swansboro\, NC – just minutes from beautiful Emerald Isle. \nDon’t wait—our calendar fills up fast during peak season!\n🎯 Reserve your event today and hook the experience of a lifetime. \n📞 Call 252-354-3474  \n📧 Email CaptTess@NancyLeeFishingCharters.com \n🌐 Book online at https://nancyleefishingcharters.com \nNancy Lee Fishing Charters – Where Every Trip is a Reel Good Time!
URL:https://nancyleefishingcharters.com/event/private-charter-event-25/
END:VEVENT
BEGIN:VEVENT
DTSTART;TZID=America/New_York:20260502T070000
DTEND;TZID=America/New_York:20260502T120000
DTSTAMP:20260423T120631
CREATED:20260414T015602Z
LAST-MODIFIED:20260414T015602Z
UID:855-1777705200-1777723200@nancyleefishingcharters.com
SUMMARY:Head Boat Trip
DESCRIPTION:Call today and make your reservations to join us as we set out to do some fishing. \nThe Nancy Lee can accommodate up to 20 people comfortably. \nEvery Season: \n\nBlack Sea Bass – 13” size limit 7 bag limit \nVarious Porgie and Grunts – No limits \nBank and Sand Bass – No limits \n\nSpring (April–May) \n\nSpanish Mackerel – 12” size limit 15 bag limit\nBluefish – No size limit 3 bag limit \nFlounder – Currently there is no season for keeping recreational flounder \nBonito – Little Tunny and Atlantic – No limit\nKing Mackerel – 24” size limit 3 bag limit \n\nSeason opens May 1st and closes December 31st \n\nCobia – 36” size limit 4 per vessel (for hire) \n\nSeason opens May 1st and Closes March 31st \n\nGreater Amberjack – 28” size limit 1 bag limit \n\nSummer (June–August) \n\nGrouper & Snapper\nGag & Black Grouper\n\nSeason Opens May 1 and Closes June 15 \n\nRed Snapper – 24” size limit 2 fish per vsl per trip (for hire) \n\nSeason Opens July 12th and closes July 13th (only open 1 day this year) \n\nTriggerfish – 12” size limit 10 bag limit \nSharks – various species active in summer months.\n\nFall (September–November) \n\nFalse Albacore (Little Tunny) – explosive nearshore action in October.\nKing Mackerel – fall run is big through November.\nBlack Sea Bass – 13” size limit 7 bag limit
URL:https://nancyleefishingcharters.com/event/head-boat-trip-26/
END:VEVENT
BEGIN:VEVENT
DTSTART;TZID=America/New_York:20260505T070000
DTEND;TZID=America/New_York:20260505T120000
DTSTAMP:20260423T120631
CREATED:20260313T195442Z
LAST-MODIFIED:20260313T195442Z
UID:801-1777964400-1777982400@nancyleefishingcharters.com
SUMMARY:Private Charter Event
DESCRIPTION:This date has been reserved for a Private Party event.\n 🎣 Make Your Next Event Unforgettable – Book with Nancy Lee Fishing Charters! 🛥️ \nLooking for the ultimate way to celebrate a birthday\, bachelor party\, family reunion\, or corporate outing? Cast off with Nancy Lee Fishing Charters and create memories that are as big as the fish you’ll catch! \n🌊 Whether you’re planning a group adventure\, team-building day\, or just want to gather your favorite people for a day on the water\, our private fishing charters are the perfect way to bond\, relax\, and reel in some serious fun. \n✅ What We Offer: \n\nPrivate charters for groups of all sizes\nExpert crew and fully equipped boat\nIncredible bottom fishing off the Crystal Coast\nHassle-free booking and personalized service\nFish cleaning included – dinner’s on deck!\n\n📍 Based in Swansboro\, NC – just minutes from beautiful Emerald Isle. \nDon’t wait—our calendar fills up fast during peak season!\n🎯 Reserve your event today and hook the experience of a lifetime. \n📞 Call 252-354-3474  \n📧 Email CaptTess@NancyLeeFishingCharters.com \n🌐 Book online at https://nancyleefishingcharters.com \nNancy Lee Fishing Charters – Where Every Trip is a Reel Good Time!
URL:https://nancyleefishingcharters.com/event/private-charter-event-26/
END:VEVENT
BEGIN:VEVENT
DTSTART;TZID=America/New_York:20260509T070000
DTEND;TZID=America/New_York:20260509T120000
DTSTAMP:20260423T120631
CREATED:20260313T195024Z
LAST-MODIFIED:20260313T195024Z
UID:792-1778310000-1778328000@nancyleefishingcharters.com
SUMMARY:Head Boat
DESCRIPTION:Call today and make your reservations to join us as we set out to do some fishing. \nThe Nancy Lee can accommodate up to 20 people comfortably. \n Every Season: \n\nBlack Sea Bass – 13” size limit 7 bag limit \nVarious Porgie and Grunts – No limits \nBank and Sand Bass – No limits \n\nSpring (April–May) \n\nSpanish Mackerel – 12” size limit 15 bag limit\nBluefish – No size limit 3 bag limit \nFlounder – Currently there is no season for keeping recreational flounder \nBonito – Little Tunny and Atlantic – No limit\nKing Mackerel – 24” size limit 3 bag limit \n\nSeason opens May 1st and closes December 31st \n\nCobia – 36” size limit 4 per vessel (for hire) \n\nSeason opens May 1st and Closes March 31st \n\nGreater Amberjack – 28” size limit 1 bag limit \n\nSummer (June–August) \n\nGrouper & Snapper\nGag & Black Grouper\n\nSeason Opens May 1 and Closes June 15 \n\nRed Snapper – 24” size limit 2 fish per vsl per trip (for hire) \n\nSeason Opens July 12th and closes July 13th (only open 1 day this year) \n\nTriggerfish – 12” size limit 10 bag limit \nSharks – various species active in summer months.\n\nFall (September–November) \n\nFalse Albacore (Little Tunny) – explosive nearshore action in October.\nKing Mackerel – fall run is big through November.\nBlack Sea Bass – 13” size limit 7 bag limit
URL:https://nancyleefishingcharters.com/event/head-boat-2/
END:VEVENT
BEGIN:VEVENT
DTSTART;TZID=America/New_York:20260516T100000
DTEND;TZID=America/New_York:20260516T120000
DTSTAMP:20260423T120631
CREATED:20260414T020226Z
LAST-MODIFIED:20260414T020226Z
UID:864-1778925600-1778932800@nancyleefishingcharters.com
SUMMARY:Burial At Sea
DESCRIPTION:
URL:https://nancyleefishingcharters.com/event/burial-at-sea/
END:VEVENT
BEGIN:VEVENT
DTSTART;TZID=America/New_York:20260523T070000
DTEND;TZID=America/New_York:20260523T120000
DTSTAMP:20260423T120631
CREATED:20260313T195555Z
LAST-MODIFIED:20260315T122359Z
UID:803-1779519600-1779537600@nancyleefishingcharters.com
SUMMARY:Private Charter Event
DESCRIPTION:This date has been reserved for a Private Party event.\n 🎣 Make Your Next Event Unforgettable – Book with Nancy Lee Fishing Charters! 🛥️ \nLooking for the ultimate way to celebrate a birthday\, bachelor party\, family reunion\, or corporate outing? Cast off with Nancy Lee Fishing Charters and create memories that are as big as the fish you’ll catch! \n🌊 Whether you’re planning a group adventure\, team-building day\, or just want to gather your favorite people for a day on the water\, our private fishing charters are the perfect way to bond\, relax\, and reel in some serious fun. \n✅ What We Offer: \n\nPrivate charters for groups of all sizes\nExpert crew and fully equipped boat\nIncredible bottom fishing off the Crystal Coast\nHassle-free booking and personalized service\nFish cleaning included – dinner’s on deck!\n\n📍 Based in Swansboro\, NC – just minutes from beautiful Emerald Isle. \nDon’t wait—our calendar fills up fast during peak season!\n🎯 Reserve your event today and hook the experience of a lifetime. \n📞 Call 252-354-3474  \n📧 Email CaptTess@NancyLeeFishingCharters.com \n🌐 Book online at https://nancyleefishingcharters.com \nNancy Lee Fishing Charters – Where Every Trip is a Reel Good Time!
URL:https://nancyleefishingcharters.com/event/private-charter-event-27/
END:VEVENT
BEGIN:VEVENT
DTSTART;TZID=America/New_York:20260524T070000
DTEND;TZID=America/New_York:20260524T120000
DTSTAMP:20260423T120631
CREATED:20260313T195112Z
LAST-MODIFIED:20260313T195112Z
UID:794-1779606000-1779624000@nancyleefishingcharters.com
SUMMARY:Head Boat
DESCRIPTION:Call today and make your reservations to join us as we set out to do some fishing. \nThe Nancy Lee can accommodate up to 20 people comfortably. \n Every Season: \n\nBlack Sea Bass – 13” size limit 7 bag limit \nVarious Porgie and Grunts – No limits \nBank and Sand Bass – No limits \n\nSpring (April–May) \n\nSpanish Mackerel – 12” size limit 15 bag limit\nBluefish – No size limit 3 bag limit \nFlounder – Currently there is no season for keeping recreational flounder \nBonito – Little Tunny and Atlantic – No limit\nKing Mackerel – 24” size limit 3 bag limit \n\nSeason opens May 1st and closes December 31st \n\nCobia – 36” size limit 4 per vessel (for hire) \n\nSeason opens May 1st and Closes March 31st \n\nGreater Amberjack – 28” size limit 1 bag limit \n\nSummer (June–August) \n\nGrouper & Snapper\nGag & Black Grouper\n\nSeason Opens May 1 and Closes June 15 \n\nRed Snapper – 24” size limit 2 fish per vsl per trip (for hire) \n\nSeason Opens July 12th and closes July 13th (only open 1 day this year) \n\nTriggerfish – 12” size limit 10 bag limit \nSharks – various species active in summer months.\n\nFall (September–November) \n\nFalse Albacore (Little Tunny) – explosive nearshore action in October.\nKing Mackerel – fall run is big through November.\nBlack Sea Bass – 13” size limit 7 bag limit
URL:https://nancyleefishingcharters.com/event/head-boat-3/
END:VEVENT
BEGIN:VEVENT
DTSTART;TZID=America/New_York:20260526T070000
DTEND;TZID=America/New_York:20260526T120000
DTSTAMP:20260423T120631
CREATED:20260414T015641Z
LAST-MODIFIED:20260414T015641Z
UID:858-1779778800-1779796800@nancyleefishingcharters.com
SUMMARY:Head Boat Trip
DESCRIPTION:Call today and make your reservations to join us as we set out to do some fishing. \nThe Nancy Lee can accommodate up to 20 people comfortably. \nEvery Season: \n\nBlack Sea Bass – 13” size limit 7 bag limit \nVarious Porgie and Grunts – No limits \nBank and Sand Bass – No limits \n\nSpring (April–May) \n\nSpanish Mackerel – 12” size limit 15 bag limit\nBluefish – No size limit 3 bag limit \nFlounder – Currently there is no season for keeping recreational flounder \nBonito – Little Tunny and Atlantic – No limit\nKing Mackerel – 24” size limit 3 bag limit \n\nSeason opens May 1st and closes December 31st \n\nCobia – 36” size limit 4 per vessel (for hire) \n\nSeason opens May 1st and Closes March 31st \n\nGreater Amberjack – 28” size limit 1 bag limit \n\nSummer (June–August) \n\nGrouper & Snapper\nGag & Black Grouper\n\nSeason Opens May 1 and Closes June 15 \n\nRed Snapper – 24” size limit 2 fish per vsl per trip (for hire) \n\nSeason Opens July 12th and closes July 13th (only open 1 day this year) \n\nTriggerfish – 12” size limit 10 bag limit \nSharks – various species active in summer months.\n\nFall (September–November) \n\nFalse Albacore (Little Tunny) – explosive nearshore action in October.\nKing Mackerel – fall run is big through November.\nBlack Sea Bass – 13” size limit 7 bag limit
URL:https://nancyleefishingcharters.com/event/head-boat-trip-27/
END:VEVENT
END:VCALENDAR