BEGIN:VCALENDAR
VERSION:2.0
PRODID:-//Nancy Lee Fishing Charters - ECPv6.15.20//NONSGML v1.0//EN
CALSCALE:GREGORIAN
METHOD:PUBLISH
X-WR-CALNAME:Nancy Lee Fishing Charters
X-ORIGINAL-URL:https://nancyleefishingcharters.com
X-WR-CALDESC:Events for Nancy Lee Fishing Charters
REFRESH-INTERVAL;VALUE=DURATION:PT1H
X-Robots-Tag:noindex
X-PUBLISHED-TTL:PT1H
BEGIN:VTIMEZONE
TZID:America/New_York
BEGIN:DAYLIGHT
TZOFFSETFROM:-0500
TZOFFSETTO:-0400
TZNAME:EDT
DTSTART:20240310T070000
END:DAYLIGHT
BEGIN:STANDARD
TZOFFSETFROM:-0400
TZOFFSETTO:-0500
TZNAME:EST
DTSTART:20241103T060000
END:STANDARD
BEGIN:DAYLIGHT
TZOFFSETFROM:-0500
TZOFFSETTO:-0400
TZNAME:EDT
DTSTART:20250309T070000
END:DAYLIGHT
BEGIN:STANDARD
TZOFFSETFROM:-0400
TZOFFSETTO:-0500
TZNAME:EST
DTSTART:20251102T060000
END:STANDARD
BEGIN:DAYLIGHT
TZOFFSETFROM:-0500
TZOFFSETTO:-0400
TZNAME:EDT
DTSTART:20260308T070000
END:DAYLIGHT
BEGIN:STANDARD
TZOFFSETFROM:-0400
TZOFFSETTO:-0500
TZNAME:EST
DTSTART:20261101T060000
END:STANDARD
END:VTIMEZONE
BEGIN:VEVENT
DTSTART;TZID=America/New_York:20250607T080000
DTEND;TZID=America/New_York:20250607T140000
DTSTAMP:20260424T082415
CREATED:20250422T172258Z
LAST-MODIFIED:20250422T172258Z
UID:475-1749283200-1749304800@nancyleefishingcharters.com
SUMMARY:The Big Rock Lady Angler Tournament
DESCRIPTION:The Big Rock Keli Wagner Lady Angler (KWLA) Tournament is one of the world’s premier ladies-only sportfishing events. Scheduled for June 7\, 2025\, in Morehead City\, North Carolina\, this prestigious one-day billfish release tournament attracts hundreds of women anglers from across the globe. ​Log in or sign up to view+8thebigrock.com+8www.visitnc.com+8thebigrock.com+1thebigrock.com+1 \n🐟 Tournament Overview\nThe KWLA Tournament is renowned for its competitive spirit and substantial prize purse. In 2023\, the event featured 266 boats and offered a prize pool exceeding $396\,000. Anglers compete in various categories\, including billfish releases and gamefish catches\, with prizes awarded to the top performers in each division. Notably\, the Level II WTA Dolphin category in 2024 had a prize of $112\,625. ​thebigrock.comthebigrock.com \n💖 A Tribute to Keli Wagner\nThe tournament honors the memory of Keli Wagner\, the late wife of Big Rock board member Casey Wagner\, who passed away from cancer in 2008. Keli was a passionate angler and a dedicated advocate for cancer care. Her commitment to the tournament’s success led to proceeds being donated to local cancer clinics. In 2023\, the KWLA Tournament contributed $25\,000 to enhance patient comfort and care. ​visitbeaufortnc.com+1thebigrock.com+1visitbeaufortnc.com+6thebigrock.com+6Instagram+6 \n🎉 Event Schedule for 2025\n\n\nFriday\, June 6: Kickoff event at the Crystal Coast Civic Center\, featuring a best-dressed contest\, food\, drinks\, and live music. \n\n\nSaturday\, June 7: Tournament fishing from 8:00 AM to 2:00 PM\, followed by live weigh-in coverage starting at 2:00 PM at Big Rock Landing. ​thebigrock.com+1Crystal Coast+1 \n\n\n🌟 Join the Action\nThe KWLA Tournament is part of the Big Rock Triple Crown series\, which also includes the Big Rock Blue Marlin Tournament and the Big Rock Kids Billfish Tournament. Boats participating in any of these events are eligible to compete for the Triple Crown Championship\, with additional prizes for top performers. ​Log in or sign up to view+10thebigrock.com+10thebigrock.com+10 \nWhether you’re an experienced angler or a newcomer to the sport\, the KWLA Tournament offers an exciting opportunity to be part of a world-class fishing competition while supporting a noble cause. For more information and to register\, visit the official tournament website.
URL:https://nancyleefishingcharters.com/event/the-big-rock-lady-angler-tournament/
LOCATION:Big Rock Lady Angler Tournament\, 710 Evans Street\, Morehead City\, NC\, 28557\, United States
CATEGORIES:The Big Rock
END:VEVENT
END:VCALENDAR